BEGIN:VCALENDAR
VERSION:2.0
CALSCALE:GREGORIAN
PRODID:-//Diputació de Barcelona//DibaCMS//EN
BEGIN:VEVENT
UID:7491
DTSTAMP:20260424T135700
DTSTART:20260510T073000
DTEND:20260510T130000
SUMMARY:Caminada de Montclar 2026
LOCATION:08605 Montclar
METHOD:PUBLISH
X-WR-CALNAME:montclar@montclar.cat
X-WR-TIMEZONE:Europe/Madrid
DESCRIPTION:CAMES!, AJUDEU-ME ! No us perdéssiu pas la nova sendera MONTCLARESA!

URI:https://www.montclar.cat/actualitat/agenda/caminada-de-montclar-2026.html
CLASS:PUBLIC
END:VEVENT
END:VCALENDAR
